BEGIN:VCALENDAR
VERSION:2.0
PRODID:-//Pixley For President 2028 - ECPv6.15.20//NONSGML v1.0//EN
CALSCALE:GREGORIAN
METHOD:PUBLISH
X-ORIGINAL-URL:https://pixleyforpresident.com
X-WR-CALDESC:Events for Pixley For President 2028
REFRESH-INTERVAL;VALUE=DURATION:PT1H
X-Robots-Tag:noindex
X-PUBLISHED-TTL:PT1H
BEGIN:VTIMEZONE
TZID:UTC
BEGIN:STANDARD
TZOFFSETFROM:+0000
TZOFFSETTO:+0000
TZNAME:UTC
DTSTART:20250101T000000
END:STANDARD
END:VTIMEZONE
BEGIN:VEVENT
DTSTART;TZID=UTC:20260404T100000
DTEND;TZID=UTC:20260404T120000
DTSTAMP:20260419T151018
CREATED:20250819T215345Z
LAST-MODIFIED:20250819T215347Z
UID:216-1775296800-1775304000@pixleyforpresident.com
SUMMARY:Burlington Town Hall Event
DESCRIPTION:
URL:https://pixleyforpresident.com/event/burlington-town-hall-event/
END:VEVENT
BEGIN:VEVENT
DTSTART;TZID=UTC:20260411T100000
DTEND;TZID=UTC:20260411T120000
DTSTAMP:20260419T151018
CREATED:20250819T215436Z
LAST-MODIFIED:20250819T215437Z
UID:218-1775901600-1775908800@pixleyforpresident.com
SUMMARY:Watertown Town Hall Event
DESCRIPTION:
URL:https://pixleyforpresident.com/event/watertown-town-hall-event/
END:VEVENT
BEGIN:VEVENT
DTSTART;TZID=UTC:20260418T100000
DTEND;TZID=UTC:20260418T120000
DTSTAMP:20260419T151018
CREATED:20250819T215622Z
LAST-MODIFIED:20250819T215624Z
UID:220-1776506400-1776513600@pixleyforpresident.com
SUMMARY:Saranac Lake Town Hall Event
DESCRIPTION:
URL:https://pixleyforpresident.com/event/saranac-lake-town-hall-event/
END:VEVENT
END:VCALENDAR