BEGIN:VCALENDAR
VERSION:2.0
PRODID:-//Pixley For President 2028 - ECPv6.15.20//NONSGML v1.0//EN
CALSCALE:GREGORIAN
METHOD:PUBLISH
X-WR-CALNAME:Pixley For President 2028
X-ORIGINAL-URL:https://pixleyforpresident.com
X-WR-CALDESC:Events for Pixley For President 2028
REFRESH-INTERVAL;VALUE=DURATION:PT1H
X-Robots-Tag:noindex
X-PUBLISHED-TTL:PT1H
BEGIN:VTIMEZONE
TZID:UTC
BEGIN:STANDARD
TZOFFSETFROM:+0000
TZOFFSETTO:+0000
TZNAME:UTC
DTSTART:20250101T000000
END:STANDARD
END:VTIMEZONE
BEGIN:VEVENT
DTSTART;TZID=UTC:20260321T100000
DTEND;TZID=UTC:20260321T120000
DTSTAMP:20260421T135835
CREATED:20250818T165623Z
LAST-MODIFIED:20250818T165625Z
UID:192-1774087200-1774094400@pixleyforpresident.com
SUMMARY:Plattsburgh Town Hall Event
DESCRIPTION:
URL:https://pixleyforpresident.com/event/plattsburgh-town-hall-event/
END:VEVENT
BEGIN:VEVENT
DTSTART;TZID=UTC:20260314T100000
DTEND;TZID=UTC:20260314T120000
DTSTAMP:20260421T135835
CREATED:20250818T165357Z
LAST-MODIFIED:20250818T165358Z
UID:187-1773482400-1773489600@pixleyforpresident.com
SUMMARY:Massena Town Hall Event
DESCRIPTION:
URL:https://pixleyforpresident.com/event/massena-town-hall-event/
LOCATION:Massena Public Library\, 41 Glenn Street\, Massena\, New York\, 13662
END:VEVENT
BEGIN:VEVENT
DTSTART;TZID=UTC:20260307T100000
DTEND;TZID=UTC:20260307T120000
DTSTAMP:20260421T135835
CREATED:20250818T064305Z
LAST-MODIFIED:20250818T064305Z
UID:174-1772877600-1772884800@pixleyforpresident.com
SUMMARY:Malone Town Hall Event
DESCRIPTION:Come see me at Wead Library in Malone where I will take questions about my policies\, platform\, and promises if elected President of the United States.
URL:https://pixleyforpresident.com/event/malone-town-hall-event/
LOCATION:Wead Library\, 64 Elm St\, Malone\, NY\, 12953\, United States
END:VEVENT
END:VCALENDAR